BEGIN:VCALENDAR
VERSION:2.0
PRODID:-//Provincial Grand Royal Arch Chapter of Mid &amp; East Lothian - ECPv6.15.19//NONSGML v1.0//EN
CALSCALE:GREGORIAN
METHOD:PUBLISH
X-ORIGINAL-URL:http://pgracme.co.uk
X-WR-CALDESC:Events for Provincial Grand Royal Arch Chapter of Mid &amp; East Lothian
REFRESH-INTERVAL;VALUE=DURATION:PT1H
X-Robots-Tag:noindex
X-PUBLISHED-TTL:PT1H
BEGIN:VTIMEZONE
TZID:Europe/London
BEGIN:DAYLIGHT
TZOFFSETFROM:+0000
TZOFFSETTO:+0100
TZNAME:BST
DTSTART:20210328T010000
END:DAYLIGHT
BEGIN:STANDARD
TZOFFSETFROM:+0100
TZOFFSETTO:+0000
TZNAME:GMT
DTSTART:20211031T010000
END:STANDARD
BEGIN:DAYLIGHT
TZOFFSETFROM:+0000
TZOFFSETTO:+0100
TZNAME:BST
DTSTART:20220327T010000
END:DAYLIGHT
BEGIN:STANDARD
TZOFFSETFROM:+0100
TZOFFSETTO:+0000
TZNAME:GMT
DTSTART:20221030T010000
END:STANDARD
BEGIN:DAYLIGHT
TZOFFSETFROM:+0000
TZOFFSETTO:+0100
TZNAME:BST
DTSTART:20230326T010000
END:DAYLIGHT
BEGIN:STANDARD
TZOFFSETFROM:+0100
TZOFFSETTO:+0000
TZNAME:GMT
DTSTART:20231029T010000
END:STANDARD
END:VTIMEZONE
BEGIN:VEVENT
DTSTART;TZID=Europe/London:20220315T193000
DTEND;TZID=Europe/London:20220315T230000
DTSTAMP:20260419T183315
CREATED:20220217T233353Z
LAST-MODIFIED:20220217T233353Z
UID:521-1647372600-1647385200@pgracme.co.uk
SUMMARY:Dunbar Castle RAC No. 614 Business Meeting
DESCRIPTION:Dunbar Castle RAC No. 614 Business Meeting 19.30hrs Members only unless Covid Restrictions Change.\n\n\nGood News Status Quo for the next two years\, then a Lodge review .\n 
URL:http://pgracme.co.uk/event/dunbar-castle-rac-no-614-business-meeting/
LOCATION:Dunbar Castle\, Belhaven Road\, Dunbar\, East Lothian\, EH42 1DD\, United Kingdom
CATEGORIES:Business Meeting
END:VEVENT
END:VCALENDAR