BEGIN:VCALENDAR
VERSION:2.0
PRODID:-//Provincial Grand Royal Arch Chapter of Mid &amp; East Lothian - ECPv6.15.19//NONSGML v1.0//EN
CALSCALE:GREGORIAN
METHOD:PUBLISH
X-ORIGINAL-URL:http://pgracme.co.uk
X-WR-CALDESC:Events for Provincial Grand Royal Arch Chapter of Mid &amp; East Lothian
REFRESH-INTERVAL;VALUE=DURATION:PT1H
X-Robots-Tag:noindex
X-PUBLISHED-TTL:PT1H
BEGIN:VTIMEZONE
TZID:Europe/London
BEGIN:DAYLIGHT
TZOFFSETFROM:+0000
TZOFFSETTO:+0100
TZNAME:BST
DTSTART:20190331T010000
END:DAYLIGHT
BEGIN:STANDARD
TZOFFSETFROM:+0100
TZOFFSETTO:+0000
TZNAME:GMT
DTSTART:20191027T010000
END:STANDARD
BEGIN:DAYLIGHT
TZOFFSETFROM:+0000
TZOFFSETTO:+0100
TZNAME:BST
DTSTART:20200329T010000
END:DAYLIGHT
BEGIN:STANDARD
TZOFFSETFROM:+0100
TZOFFSETTO:+0000
TZNAME:GMT
DTSTART:20201025T010000
END:STANDARD
BEGIN:DAYLIGHT
TZOFFSETFROM:+0000
TZOFFSETTO:+0100
TZNAME:BST
DTSTART:20210328T010000
END:DAYLIGHT
BEGIN:STANDARD
TZOFFSETFROM:+0100
TZOFFSETTO:+0000
TZNAME:GMT
DTSTART:20211031T010000
END:STANDARD
BEGIN:DAYLIGHT
TZOFFSETFROM:+0000
TZOFFSETTO:+0100
TZNAME:BST
DTSTART:20220327T010000
END:DAYLIGHT
BEGIN:STANDARD
TZOFFSETFROM:+0100
TZOFFSETTO:+0000
TZNAME:GMT
DTSTART:20221030T010000
END:STANDARD
BEGIN:DAYLIGHT
TZOFFSETFROM:+0000
TZOFFSETTO:+0100
TZNAME:BST
DTSTART:20230326T010000
END:DAYLIGHT
BEGIN:STANDARD
TZOFFSETFROM:+0100
TZOFFSETTO:+0000
TZNAME:GMT
DTSTART:20231029T010000
END:STANDARD
BEGIN:DAYLIGHT
TZOFFSETFROM:+0000
TZOFFSETTO:+0100
TZNAME:BST
DTSTART:20240331T010000
END:DAYLIGHT
BEGIN:STANDARD
TZOFFSETFROM:+0100
TZOFFSETTO:+0000
TZNAME:GMT
DTSTART:20241027T010000
END:STANDARD
BEGIN:DAYLIGHT
TZOFFSETFROM:+0000
TZOFFSETTO:+0100
TZNAME:BST
DTSTART:20250330T010000
END:DAYLIGHT
BEGIN:STANDARD
TZOFFSETFROM:+0100
TZOFFSETTO:+0000
TZNAME:GMT
DTSTART:20251026T010000
END:STANDARD
BEGIN:DAYLIGHT
TZOFFSETFROM:+0000
TZOFFSETTO:+0100
TZNAME:BST
DTSTART:20260329T010000
END:DAYLIGHT
BEGIN:STANDARD
TZOFFSETFROM:+0100
TZOFFSETTO:+0000
TZNAME:GMT
DTSTART:20261025T010000
END:STANDARD
END:VTIMEZONE
BEGIN:VEVENT
DTSTART;TZID=Europe/London:20200325T180000
DTEND;TZID=Europe/London:20200325T220000
DTSTAMP:20260423T102815
CREATED:20190528T182056Z
LAST-MODIFIED:20200313T203939Z
UID:270-1585159200-1585173600@pgracme.co.uk
SUMMARY:CANCELLED - Hermitage of Braid CC No.395 Annual Visit
DESCRIPTION:
URL:http://pgracme.co.uk/event/hermitage-of-braid-cc-no-395-annual-visit/
LOCATION:Masonic Hall Dalkeith\, 129 High Street\, Dalkeith\, EH22 1BE\, United Kingdom
CATEGORIES:Annual Visit
END:VEVENT
BEGIN:VEVENT
DTSTART;TZID=Europe/London:20200330T180000
DTEND;TZID=Europe/London:20200330T220000
DTSTAMP:20260423T102815
CREATED:20190528T181909Z
LAST-MODIFIED:20200313T095917Z
UID:268-1585591200-1585605600@pgracme.co.uk
SUMMARY:CANCELLED - Acheson's Haven CC No.376 PGRAC Visitation
DESCRIPTION:
URL:http://pgracme.co.uk/event/achesons-haven-cc-no-376/
LOCATION:Masonic Hall Musselburgh\, 7/9 Balcarres Road\, Musselburgh\, EH21 7SD\, United Kingdom
CATEGORIES:Annual Visit
END:VEVENT
BEGIN:VEVENT
DTSTART;TZID=Europe/London:20200408T180000
DTEND;TZID=Europe/London:20200408T220000
DTSTAMP:20260423T102815
CREATED:20190528T182152Z
LAST-MODIFIED:20200313T204015Z
UID:272-1586368800-1586383200@pgracme.co.uk
SUMMARY:CANCELLED - Esk RAC No.42 Annual Visit
DESCRIPTION:  \nTwo Candidates – Royal Arch Degree.
URL:http://pgracme.co.uk/event/esk-rac-no-42-annual-visit/
LOCATION:Masonic Hall Dalkeith\, 129 High Street\, Dalkeith\, EH22 1BE\, United Kingdom
CATEGORIES:Annual Visit
END:VEVENT
BEGIN:VEVENT
DTSTART;TZID=Europe/London:20200415T183000
DTEND;TZID=Europe/London:20200415T220000
DTSTAMP:20260423T102815
CREATED:20190528T182245Z
LAST-MODIFIED:20200313T170722Z
UID:274-1586975400-1586988000@pgracme.co.uk
SUMMARY:CANCELLED - Colinton & Currie CC No.431 Annual Visit
DESCRIPTION:
URL:http://pgracme.co.uk/event/colinton-currie-cc-no-431-annual-visit/
LOCATION:Masonic Hall Currie\, 5 Riccarton Mains Road\, Currie\, EH14 5BP\, United Kingdom
CATEGORIES:Annual Visit
END:VEVENT
BEGIN:VEVENT
DTSTART;TZID=Europe/London:20200428T180000
DTEND;TZID=Europe/London:20200428T220000
DTSTAMP:20260423T102815
CREATED:20190528T182355Z
LAST-MODIFIED:20200313T173807Z
UID:276-1588096800-1588111200@pgracme.co.uk
SUMMARY:CANCELLED - Laird o' Cockpen RAC No.500 Annual Visit
DESCRIPTION:
URL:http://pgracme.co.uk/event/laird-o-cockpen-rac-no-500-annual-visit/
LOCATION:Masonic Hall Bonnyrigg\, 77 High Street\, Bonnyrigg\, EH19 2DB\, United Kingdom
CATEGORIES:Annual Visit
END:VEVENT
BEGIN:VEVENT
DTSTART;TZID=Europe/London:20200507T180000
DTEND;TZID=Europe/London:20200507T220000
DTSTAMP:20260423T102815
CREATED:20190528T182506Z
LAST-MODIFIED:20200313T204120Z
UID:278-1588874400-1588888800@pgracme.co.uk
SUMMARY:CANCELLED - Craigmillar RAC No.468 Annual Visit
DESCRIPTION:
URL:http://pgracme.co.uk/event/craigmillar-rac-no-468-annual-visit/
LOCATION:Masonic Hall Liberton\, 60 Mount Vernon Road\, Edinburgh\, EH16 6JQ\, United Kingdom
CATEGORIES:Annual Visit
END:VEVENT
BEGIN:VEVENT
DTSTART;TZID=Europe/London:20230616T130000
DTEND;TZID=Europe/London:20230616T170000
DTSTAMP:20260423T102815
CREATED:20230206T203730Z
LAST-MODIFIED:20230725T071517Z
UID:756-1686920400-1686934800@pgracme.co.uk
SUMMARY:SGRAC of Scotland  Annual Meeting
DESCRIPTION:NB. Date on membership card wrong.
URL:http://pgracme.co.uk/event/sgrac-of-scotland-annual-meeting/
LOCATION:Grand Lodge of Scotland\, 96 George Street\, Edinburgh\, EH2 3DH\, United Kingdom
CATEGORIES:Annual Visit
END:VEVENT
BEGIN:VEVENT
DTSTART;TZID=Europe/London:20250912T193000
DTEND;TZID=Europe/London:20250912T230000
DTSTAMP:20260423T102815
CREATED:20250904T225342Z
LAST-MODIFIED:20250912T142300Z
UID:1249-1757705400-1757718000@pgracme.co.uk
SUMMARY:PGRAC Mid & East Lothian Convocation
DESCRIPTION:
URL:http://pgracme.co.uk/event/pgrac-mid-east-lothian-convocation/
LOCATION:Masonic Hall Dalkeith\, 129 High Street\, Dalkeith\, EH22 1BE\, United Kingdom
CATEGORIES:Annual Visit,General Meeting
END:VEVENT
END:VCALENDAR