BEGIN:VCALENDAR
VERSION:2.0
PRODID:-//Provincial Grand Royal Arch Chapter of Mid &amp; East Lothian - ECPv6.15.19//NONSGML v1.0//EN
CALSCALE:GREGORIAN
METHOD:PUBLISH
X-ORIGINAL-URL:http://pgracme.co.uk
X-WR-CALDESC:Events for Provincial Grand Royal Arch Chapter of Mid &amp; East Lothian
REFRESH-INTERVAL;VALUE=DURATION:PT1H
X-Robots-Tag:noindex
X-PUBLISHED-TTL:PT1H
BEGIN:VTIMEZONE
TZID:Europe/London
BEGIN:DAYLIGHT
TZOFFSETFROM:+0000
TZOFFSETTO:+0100
TZNAME:BST
DTSTART:20190331T010000
END:DAYLIGHT
BEGIN:STANDARD
TZOFFSETFROM:+0100
TZOFFSETTO:+0000
TZNAME:GMT
DTSTART:20191027T010000
END:STANDARD
BEGIN:DAYLIGHT
TZOFFSETFROM:+0000
TZOFFSETTO:+0100
TZNAME:BST
DTSTART:20200329T010000
END:DAYLIGHT
BEGIN:STANDARD
TZOFFSETFROM:+0100
TZOFFSETTO:+0000
TZNAME:GMT
DTSTART:20201025T010000
END:STANDARD
BEGIN:DAYLIGHT
TZOFFSETFROM:+0000
TZOFFSETTO:+0100
TZNAME:BST
DTSTART:20210328T010000
END:DAYLIGHT
BEGIN:STANDARD
TZOFFSETFROM:+0100
TZOFFSETTO:+0000
TZNAME:GMT
DTSTART:20211031T010000
END:STANDARD
END:VTIMEZONE
BEGIN:VEVENT
DTSTART;TZID=Europe/London:20200116T181500
DTEND;TZID=Europe/London:20200116T220000
DTSTAMP:20260423T062135
CREATED:20190528T171850Z
LAST-MODIFIED:20190528T171850Z
UID:240-1579198500-1579212000@pgracme.co.uk
SUMMARY:Castle Park RAC No.520 Annual Visit
DESCRIPTION:
URL:http://pgracme.co.uk/event/castle-park-rac-no-520-annual-visit/
LOCATION:Masonic Hall Currie\, 5 Riccarton Mains Road\, Currie\, EH14 5BP\, United Kingdom
CATEGORIES:Annual Visit
END:VEVENT
BEGIN:VEVENT
DTSTART;TZID=Europe/London:20200129T181500
DTEND;TZID=Europe/London:20200129T220000
DTSTAMP:20260423T062135
CREATED:20190528T172016Z
LAST-MODIFIED:20200313T095950Z
UID:242-1580321700-1580335200@pgracme.co.uk
SUMMARY:Acheson's Haven L & C No.376 Annual Visit
DESCRIPTION:
URL:http://pgracme.co.uk/event/achesons-haven-l-c-no-376-annual-visit/
LOCATION:Masonic Hall Musselburgh\, 7/9 Balcarres Road\, Musselburgh\, EH21 7SD\, United Kingdom
CATEGORIES:Annual Visit
END:VEVENT
END:VCALENDAR